BEGIN:VCALENDAR
VERSION:2.0
PRODID:-//ChamberMaster//Event Calendar 2.0//EN
METHOD:PUBLISH
X-PUBLISHED-TTL:P3D
REFRESH-INTERVAL:P3D
CALSCALE:GREGORIAN
BEGIN:VEVENT
DTSTART:20260806T113000Z
DTEND:20260806T130000Z
X-MICROSOFT-CDO-ALLDAYEVENT:FALSE
SUMMARY:Multi Chamber Speed Networking 8/6/2026
DESCRIPTION:Multi-Chamber Speed Networking Event\n\nMEMBERS ONLY\n\nHosted by: Grandville/Jenison\n\nEnjoy coffee and speed networking with other West MI Chambers!\n\nThis event is open to members of the following chambers:\n\n\n\nAllendale Area\n\nAllegan\n\nByron Center\n\nCaledonia Area\n\nGaines\n\nGrandville /Jenison\n\nHudsonville Area\n\nSouth Kent\n\nWayland Area\n\nOtsego Plainwell
X-ALT-DESC;FMTTYPE=text/html:<div style="box-sizing: content-box\; border-width: initial\; border-style: none\; border-color: initial\; border-image: none 100% 1 0 / 1 / 0 stretch\; margin: 0px\; padding: 0px\; inset: auto\; clear: none\; color: rgb(38\, 33\, 32)\; content: normal\; direction: inherit\; empty-cells: show\; float: none\; font-variant-numeric: inherit\; font-variant-east-asian: inherit\; font-variant-alternates: inherit\; font-variant-position: inherit\; font-stretch: inherit\; font-size: 16px\; font-family: Ubuntu\, Helvetica\, Arial\, Lucida\, sans-serif\; font-optical-sizing: inherit\; font-kerning: inherit\; font-feature-settings: inherit\; font-variation-settings: inherit\; line-height: inherit\; max-height: none\; max-width: none\; min-height: initial\; min-width: initial\; opacity: 1\; outline-offset: 0px\; overflow: visible\; position: static\; resize: none\; table-layout: auto\; text-align: center\; text-overflow: clip\; vertical-align: baseline\; visibility: inherit\; word-break: inherit\; overflow-wrap: inherit\; z-index: auto\; background-image: none\; background-position: initial\; background-size: initial\; background-repeat: initial\; background-attachment: initial\; background-origin: initial\; background-clip: initial\; border-collapse: separate\; border-radius: 0px\; height: auto\; width: auto\; box-shadow: none\;"><span style="box-sizing: border-box\; border-width: initial\; border-style: none\; border-color: initial\; border-image: none 100% 1 0 / 1 / 0 stretch\; margin: 0px\; padding: 0px\; inset: auto\; clear: none\; color: rgb(25\, 122\, 181)\; content: normal\; direction: inherit\; empty-cells: show\; font-style: inherit\; font-variant: inherit\; font-weight: bolder\; font-stretch: inherit\; font-size: 14px\; font-family: arial\, sans-serif\; font-optical-sizing: inherit\; font-kerning: inherit\; font-feature-settings: inherit\; font-variation-settings: inherit\; letter-spacing: inherit\; line-height: inherit\; max-height: none\; max-width: none\; min-height: initial\; min-width: initial\; opacity: 1\; outline-offset: 0px\; overflow: visible\; position: static\; resize: none\; table-layout: auto\; text-indent: inherit\; text-overflow: clip\; text-transform: inherit\; vertical-align: baseline\; visibility: inherit\; white-space: inherit\; word-break: inherit\; word-spacing: inherit\; overflow-wrap: inherit\; z-index: auto\; background: none\; border-collapse: separate\; border-radius: 0px\; height: auto\; width: auto\; box-shadow: none\;"><span style="box-sizing: border-box\; border-width: initial\; border-style: none\; border-color: initial\; border-image: none 100% 1 0 / 1 / 0 stretch\; margin: 0px\; padding: 0px\; inset: auto\; clear: none\; color: inherit\; content: normal\; direction: inherit\; empty-cells: show\; font: inherit\; letter-spacing: inherit\; max-height: none\; max-width: none\; min-height: initial\; min-width: initial\; opacity: 1\; outline-offset: 0px\; overflow: visible\; position: static\; resize: none\; table-layout: auto\; text-align: inherit\; text-indent: inherit\; text-overflow: clip\; text-transform: inherit\; vertical-align: baseline\; visibility: inherit\; white-space: inherit\; word-break: inherit\; word-spacing: inherit\; overflow-wrap: inherit\; z-index: auto\; background: none\; border-collapse: separate\; border-radius: 0px\; height: auto\; width: auto\; box-shadow: none\;"><span style="box-sizing: border-box\; border-width: initial\; border-style: none\; border-color: initial\; border-image: none 100% 1 0 / 1 / 0 stretch\; margin: 0px\; padding: 0px\; inset: auto\; clear: none\; color: inherit\; content: normal\; direction: inherit\; empty-cells: show\; font-style: inherit\; font-variant: inherit\; font-weight: inherit\; font-stretch: inherit\; font-size: inherit\; font-family: arial\; font-optical-sizing: inherit\; font-kerning: inherit\; font-feature-settings: inherit\; font-variation-settings: inherit\; letter-spacing: inherit\; line-height: inherit\; max-height: none\; max-width: none\; min-height: initial\; min-width: initial\; opacity: 1\; outline-offset: 0px\; overflow: visible\; position: static\; resize: none\; table-layout: auto\; text-align: inherit\; text-indent: inherit\; text-overflow: clip\; text-transform: inherit\; vertical-align: baseline\; visibility: inherit\; white-space: inherit\; word-break: inherit\; word-spacing: inherit\; overflow-wrap: inherit\; z-index: auto\; background: none\; border-collapse: separate\; border-radius: 0px\; height: auto\; width: auto\; box-shadow: none\;"><span style="box-sizing: border-box\; border-width: initial\; border-style: none\; border-color: initial\; border-image: none 100% 1 0 / 1 / 0 stretch\; margin: 0px\; padding: 0px\; inset: auto\; clear: none\; color: rgb(0\, 0\, 0)\; content: normal\; direction: inherit\; empty-cells: show\; font: inherit\; letter-spacing: inherit\; max-height: none\; max-width: none\; min-height: initial\; min-width: initial\; opacity: 1\; outline-offset: 0px\; overflow: visible\; position: static\; resize: none\; table-layout: auto\; text-align: inherit\; text-indent: inherit\; text-overflow: clip\; text-transform: inherit\; vertical-align: baseline\; visibility: inherit\; white-space: inherit\; word-break: inherit\; word-spacing: inherit\; overflow-wrap: inherit\; z-index: auto\; background: none\; border-collapse: separate\; border-radius: 0px\; height: auto\; width: auto\; box-shadow: none\;"><span style="box-sizing: border-box\; border: 0px\; margin: 0px\; padding: 0px\; inset: auto\; clear: none\; color: inherit\; content: normal\; direction: inherit\; empty-cells: show\; font: inherit\; letter-spacing: inherit\; max-height: none\; max-width: none\; min-height: initial\; min-width: initial\; opacity: 1\; outline-offset: 0px\; overflow: visible\; position: static\; resize: none\; table-layout: auto\; text-align: inherit\; text-indent: inherit\; text-overflow: clip\; text-transform: inherit\; vertical-align: baseline\; visibility: inherit\; white-space: inherit\; word-break: inherit\; word-spacing: inherit\; overflow-wrap: inherit\; z-index: auto\; background: transparent\; border-collapse: separate\; border-radius: 0px\; height: auto\; width: auto\; box-shadow: none\; outline: 0px\; text-size-adjust: 100%\;"><span style="box-sizing: border-box\; border: 0px\; margin: 0px\; padding: 0px\; inset: auto\; clear: none\; color: inherit\; content: normal\; direction: inherit\; empty-cells: show\; font: inherit\; letter-spacing: inherit\; max-height: none\; max-width: none\; min-height: initial\; min-width: initial\; opacity: 1\; outline-offset: 0px\; overflow: visible\; position: static\; resize: none\; table-layout: auto\; text-align: inherit\; text-indent: inherit\; text-overflow: clip\; text-transform: inherit\; vertical-align: baseline\; visibility: inherit\; white-space: inherit\; word-break: inherit\; word-spacing: inherit\; overflow-wrap: inherit\; z-index: auto\; background: transparent\; border-collapse: separate\; border-radius: 0px\; height: auto\; width: auto\; box-shadow: none\; outline: 0px\; text-size-adjust: 100%\;"><span style="box-sizing: content-box\; border-width: initial\; border-style: none\; border-color: initial\; border-image: none 100% 1 0 / 1 / 0 stretch\; margin: 0px\; padding: 0px\; inset: auto\; clear: none\; color: inherit\; content: normal\; direction: inherit\; empty-cells: show\; font-style: inherit\; font-variant: inherit\; font-weight: inherit\; font-stretch: inherit\; font-size: 16px\; font-family: inherit\; font-optical-sizing: inherit\; font-kerning: inherit\; font-feature-settings: inherit\; font-variation-settings: inherit\; letter-spacing: inherit\; line-height: inherit\; max-height: none\; max-width: none\; min-height: initial\; min-width: initial\; opacity: 1\; outline-offset: 0px\; overflow: visible\; position: static\; resize: none\; table-layout: auto\; text-align: inherit\; text-indent: inherit\; text-overflow: clip\; text-transform: inherit\; vertical-align: baseline\; visibility: inherit\; white-space: inherit\; word-break: inherit\; word-spacing: inherit\; overflow-wrap: inherit\; z-index: auto\; background: none\; border-collapse: separate\; border-radius: 0px\; height: auto\; width: auto\; box-shadow: none\;"><span style="box-sizing: content-box\; border-width: initial\; border-style: none\; border-color: initial\; border-image: none 100% 1 0 / 1 / 0 stretch\; margin: 0px\; padding: 0px\; inset: auto\; clear: none\; color: inherit\; content: normal\; direction: inherit\; empty-cells: show\; font-style: inherit\; font-variant: inherit\; font-weight: inherit\; font-stretch: inherit\; font-size: inherit\; font-family: tahoma\; font-optical-sizing: inherit\; font-kerning: inherit\; font-feature-settings: inherit\; font-variation-settings: inherit\; letter-spacing: inherit\; line-height: inherit\; max-height: none\; max-width: none\; min-height: initial\; min-width: initial\; opacity: 1\; outline-offset: 0px\; overflow: visible\; position: static\; resize: none\; table-layout: auto\; text-align: inherit\; text-indent: inherit\; text-overflow: clip\; text-transform: inherit\; vertical-align: baseline\; visibility: inherit\; white-space: inherit\; word-break: inherit\; word-spacing: inherit\; overflow-wrap: inherit\; z-index: auto\; background: none\; border-collapse: separate\; border-radius: 0px\; height: auto\; width: auto\; box-shadow: none\;">Multi-Chamber Speed Networking Event</span></span></span></span></span></span></span></span></div>\n\n<div style="box-sizing: content-box\; border-width: initial\; border-style: none\; border-color: initial\; border-image: none 100% 1 0 / 1 / 0 stretch\; margin: 0px\; padding: 0px\; inset: auto\; clear: none\; color: rgb(38\, 33\, 32)\; content: normal\; direction: inherit\; empty-cells: show\; float: none\; font-variant-numeric: inherit\; font-variant-east-asian: inherit\; font-variant-alternates: inherit\; font-variant-position: inherit\; font-stretch: inherit\; font-size: 16px\; font-family: Ubuntu\, Helvetica\, Arial\, Lucida\, sans-serif\; font-optical-sizing: inherit\; font-kerning: inherit\; font-feature-settings: inherit\; font-variation-settings: inherit\; line-height: inherit\; max-height: none\; max-width: none\; min-height: initial\; min-width: initial\; opacity: 1\; outline-offset: 0px\; overflow: visible\; position: static\; resize: none\; table-layout: auto\; text-align: center\; text-overflow: clip\; vertical-align: baseline\; visibility: inherit\; word-break: inherit\; overflow-wrap: inherit\; z-index: auto\; background-image: none\; background-position: initial\; background-size: initial\; background-repeat: initial\; background-attachment: initial\; background-origin: initial\; background-clip: initial\; border-collapse: separate\; border-radius: 0px\; height: auto\; width: auto\; box-shadow: none\;"><span style="box-sizing: border-box\; border-width: initial\; border-style: none\; border-color: initial\; border-image: none 100% 1 0 / 1 / 0 stretch\; margin: 0px\; padding: 0px\; inset: auto\; clear: none\; color: rgb(25\, 122\, 181)\; content: normal\; direction: inherit\; empty-cells: show\; font-style: inherit\; font-variant: inherit\; font-weight: bolder\; font-stretch: inherit\; font-size: 14px\; font-family: arial\, sans-serif\; font-optical-sizing: inherit\; font-kerning: inherit\; font-feature-settings: inherit\; font-variation-settings: inherit\; letter-spacing: inherit\; line-height: inherit\; max-height: none\; max-width: none\; min-height: initial\; min-width: initial\; opacity: 1\; outline-offset: 0px\; overflow: visible\; position: static\; resize: none\; table-layout: auto\; text-indent: inherit\; text-overflow: clip\; text-transform: inherit\; vertical-align: baseline\; visibility: inherit\; white-space: inherit\; word-break: inherit\; word-spacing: inherit\; overflow-wrap: inherit\; z-index: auto\; background: none\; border-collapse: separate\; border-radius: 0px\; height: auto\; width: auto\; box-shadow: none\;"><span style="box-sizing: border-box\; border-width: initial\; border-style: none\; border-color: initial\; border-image: none 100% 1 0 / 1 / 0 stretch\; margin: 0px\; padding: 0px\; inset: auto\; clear: none\; color: inherit\; content: normal\; direction: inherit\; empty-cells: show\; font: inherit\; letter-spacing: inherit\; max-height: none\; max-width: none\; min-height: initial\; min-width: initial\; opacity: 1\; outline-offset: 0px\; overflow: visible\; position: static\; resize: none\; table-layout: auto\; text-align: inherit\; text-indent: inherit\; text-overflow: clip\; text-transform: inherit\; vertical-align: baseline\; visibility: inherit\; white-space: inherit\; word-break: inherit\; word-spacing: inherit\; overflow-wrap: inherit\; z-index: auto\; background: none\; border-collapse: separate\; border-radius: 0px\; height: auto\; width: auto\; box-shadow: none\;"><span style="box-sizing: border-box\; border-width: initial\; border-style: none\; border-color: initial\; border-image: none 100% 1 0 / 1 / 0 stretch\; margin: 0px\; padding: 0px\; inset: auto\; clear: none\; color: inherit\; content: normal\; direction: inherit\; empty-cells: show\; font-style: inherit\; font-variant: inherit\; font-weight: inherit\; font-stretch: inherit\; font-size: inherit\; font-family: arial\; font-optical-sizing: inherit\; font-kerning: inherit\; font-feature-settings: inherit\; font-variation-settings: inherit\; letter-spacing: inherit\; line-height: inherit\; max-height: none\; max-width: none\; min-height: initial\; min-width: initial\; opacity: 1\; outline-offset: 0px\; overflow: visible\; position: static\; resize: none\; table-layout: auto\; text-align: inherit\; text-indent: inherit\; text-overflow: clip\; text-transform: inherit\; vertical-align: baseline\; visibility: inherit\; white-space: inherit\; word-break: inherit\; word-spacing: inherit\; overflow-wrap: inherit\; z-index: auto\; background: none\; border-collapse: separate\; border-radius: 0px\; height: auto\; width: auto\; box-shadow: none\;"><span style="box-sizing: border-box\; border-width: initial\; border-style: none\; border-color: initial\; border-image: none 100% 1 0 / 1 / 0 stretch\; margin: 0px\; padding: 0px\; inset: auto\; clear: none\; color: rgb(0\, 0\, 0)\; content: normal\; direction: inherit\; empty-cells: show\; font: inherit\; letter-spacing: inherit\; max-height: none\; max-width: none\; min-height: initial\; min-width: initial\; opacity: 1\; outline-offset: 0px\; overflow: visible\; position: static\; resize: none\; table-layout: auto\; text-align: inherit\; text-indent: inherit\; text-overflow: clip\; text-transform: inherit\; vertical-align: baseline\; visibility: inherit\; white-space: inherit\; word-break: inherit\; word-spacing: inherit\; overflow-wrap: inherit\; z-index: auto\; background: none\; border-collapse: separate\; border-radius: 0px\; height: auto\; width: auto\; box-shadow: none\;"><span style="box-sizing: border-box\; border: 0px\; margin: 0px\; padding: 0px\; inset: auto\; clear: none\; color: inherit\; content: normal\; direction: inherit\; empty-cells: show\; font: inherit\; letter-spacing: inherit\; max-height: none\; max-width: none\; min-height: initial\; min-width: initial\; opacity: 1\; outline-offset: 0px\; overflow: visible\; position: static\; resize: none\; table-layout: auto\; text-align: inherit\; text-indent: inherit\; text-overflow: clip\; text-transform: inherit\; vertical-align: baseline\; visibility: inherit\; white-space: inherit\; word-break: inherit\; word-spacing: inherit\; overflow-wrap: inherit\; z-index: auto\; background: transparent\; border-collapse: separate\; border-radius: 0px\; height: auto\; width: auto\; box-shadow: none\; outline: 0px\; text-size-adjust: 100%\;"><span style="box-sizing: border-box\; border: 0px\; margin: 0px\; padding: 0px\; inset: auto\; clear: none\; color: inherit\; content: normal\; direction: inherit\; empty-cells: show\; font: inherit\; letter-spacing: inherit\; max-height: none\; max-width: none\; min-height: initial\; min-width: initial\; opacity: 1\; outline-offset: 0px\; overflow: visible\; position: static\; resize: none\; table-layout: auto\; text-align: inherit\; text-indent: inherit\; text-overflow: clip\; text-transform: inherit\; vertical-align: baseline\; visibility: inherit\; white-space: inherit\; word-break: inherit\; word-spacing: inherit\; overflow-wrap: inherit\; z-index: auto\; background: transparent\; border-collapse: separate\; border-radius: 0px\; height: auto\; width: auto\; box-shadow: none\; outline: 0px\; text-size-adjust: 100%\;"><span style="box-sizing: content-box\; border-width: initial\; border-style: none\; border-color: initial\; border-image: none 100% 1 0 / 1 / 0 stretch\; margin: 0px\; padding: 0px\; inset: auto\; clear: none\; color: inherit\; content: normal\; direction: inherit\; empty-cells: show\; font-style: inherit\; font-variant: inherit\; font-weight: inherit\; font-stretch: inherit\; font-size: 16px\; font-family: inherit\; font-optical-sizing: inherit\; font-kerning: inherit\; font-feature-settings: inherit\; font-variation-settings: inherit\; letter-spacing: inherit\; line-height: inherit\; max-height: none\; max-width: none\; min-height: initial\; min-width: initial\; opacity: 1\; outline-offset: 0px\; overflow: visible\; position: static\; resize: none\; table-layout: auto\; text-align: inherit\; text-indent: inherit\; text-overflow: clip\; text-transform: inherit\; vertical-align: baseline\; visibility: inherit\; white-space: inherit\; word-break: inherit\; word-spacing: inherit\; overflow-wrap: inherit\; z-index: auto\; background: none\; border-collapse: separate\; border-radius: 0px\; height: auto\; width: auto\; box-shadow: none\;"><span style="box-sizing: content-box\; border-width: initial\; border-style: none\; border-color: initial\; border-image: none 100% 1 0 / 1 / 0 stretch\; margin: 0px\; padding: 0px\; inset: auto\; clear: none\; color: inherit\; content: normal\; direction: inherit\; empty-cells: show\; font-style: inherit\; font-variant: inherit\; font-weight: inherit\; font-stretch: inherit\; font-size: inherit\; font-family: tahoma\; font-optical-sizing: inherit\; font-kerning: inherit\; font-feature-settings: inherit\; font-variation-settings: inherit\; letter-spacing: inherit\; line-height: inherit\; max-height: none\; max-width: none\; min-height: initial\; min-width: initial\; opacity: 1\; outline-offset: 0px\; overflow: visible\; position: static\; resize: none\; table-layout: auto\; text-align: inherit\; text-indent: inherit\; text-overflow: clip\; text-transform: inherit\; vertical-align: baseline\; visibility: inherit\; white-space: inherit\; word-break: inherit\; word-spacing: inherit\; overflow-wrap: inherit\; z-index: auto\; background: none\; border-collapse: separate\; border-radius: 0px\; height: auto\; width: auto\; box-shadow: none\;">MEMBERS ONLY<br />\nHosted by: Grandville/Jenison</span></span></span></span></span></span></span></span><br />\n<span style="box-sizing: content-box\; border-width: initial\; border-style: none\; border-color: initial\; border-image: none 100% 1 0 / 1 / 0 stretch\; margin: 0px\; padding: 0px\; inset: auto\; clear: none\; color: rgb(38\, 33\, 32)\; content: normal\; direction: inherit\; empty-cells: show\; font-variant-numeric: inherit\; font-variant-east-asian: inherit\; font-variant-alternates: inherit\; font-variant-position: inherit\; font-stretch: inherit\; font-size: 14px\; font-family: Ubuntu\, Helvetica\, Arial\, Lucida\, sans-serif\; font-optical-sizing: inherit\; font-kerning: inherit\; font-feature-settings: inherit\; font-variation-settings: inherit\; line-height: inherit\; max-height: none\; max-width: none\; min-height: initial\; min-width: initial\; opacity: 1\; outline-offset: 0px\; overflow: visible\; position: static\; resize: none\; table-layout: auto\; text-overflow: clip\; vertical-align: baseline\; visibility: inherit\; word-break: inherit\; overflow-wrap: inherit\; z-index: auto\; background-image: none\; background-position: initial\; background-size: initial\; background-repeat: initial\; background-attachment: initial\; background-origin: initial\; background-clip: initial\; border-collapse: separate\; border-radius: 0px\; height: auto\; width: auto\; box-shadow: none\;"><span style="box-sizing: content-box\; border-width: initial\; border-style: none\; border-color: initial\; border-image: none 100% 1 0 / 1 / 0 stretch\; margin: 0px\; padding: 0px\; inset: auto\; clear: none\; color: inherit\; content: normal\; direction: inherit\; empty-cells: show\; font-style: inherit\; font-variant: inherit\; font-weight: inherit\; font-stretch: inherit\; font-size: inherit\; font-family: tahoma\; font-optical-sizing: inherit\; font-kerning: inherit\; font-feature-settings: inherit\; font-variation-settings: inherit\; letter-spacing: inherit\; line-height: inherit\; max-height: none\; max-width: none\; min-height: initial\; min-width: initial\; opacity: 1\; outline-offset: 0px\; overflow: visible\; position: static\; resize: none\; table-layout: auto\; text-align: inherit\; text-indent: inherit\; text-overflow: clip\; text-transform: inherit\; vertical-align: baseline\; visibility: inherit\; white-space: inherit\; word-break: inherit\; word-spacing: inherit\; overflow-wrap: inherit\; z-index: auto\; background: none\; border-collapse: separate\; border-radius: 0px\; height: auto\; width: auto\; box-shadow: none\;"><span style="box-sizing: content-box\; border-width: initial\; border-style: none\; border-color: initial\; border-image: none 100% 1 0 / 1 / 0 stretch\; margin: 0px\; padding: 0px\; inset: auto\; clear: none\; color: inherit\; content: normal\; direction: inherit\; empty-cells: show\; font-style: inherit\; font-variant: inherit\; font-weight: inherit\; font-stretch: inherit\; font-size: inherit\; font-family: inherit\; font-optical-sizing: inherit\; font-kerning: inherit\; font-feature-settings: inherit\; font-variation-settings: inherit\; letter-spacing: inherit\; line-height: normal\; max-height: none\; max-width: none\; min-height: initial\; min-width: initial\; opacity: 1\; outline-offset: 0px\; overflow: visible\; position: static\; resize: none\; table-layout: auto\; text-align: inherit\; text-indent: inherit\; text-overflow: clip\; text-transform: inherit\; vertical-align: baseline\; visibility: inherit\; white-space: inherit\; word-break: inherit\; word-spacing: inherit\; overflow-wrap: inherit\; z-index: auto\; background: none\; border-collapse: separate\; border-radius: 0px\; height: auto\; width: auto\; box-shadow: none\;">Enjoy coffee and speed networking with other West MI Chambers!</span></span></span><br />\n<em style="padding: 0px\; margin: 0px\; box-sizing: border-box\; color: rgb(0\, 0\, 0)\; font-family: &quot\;Source Sans Pro&quot\;\; font-size: 16px\;"><span style="padding: 0px\; margin: 0px\; box-sizing: border-box\; font-size: 14px\;"><span style="padding: 0px\; margin: 0px\; box-sizing: border-box\; font-family: arial\;">This event is open to members of the following chambers:<br style="padding: 0px\; margin: 0px\; box-sizing: border-box\;" />\n<br style="padding: 0px\; margin: 0px\; box-sizing: border-box\;" />\nAllendale Area<br style="padding: 0px\; margin: 0px\; box-sizing: border-box\;" />\nAllegan<br style="padding: 0px\; margin: 0px\; box-sizing: border-box\;" />\nByron Center<br style="padding: 0px\; margin: 0px\; box-sizing: border-box\;" />\nCaledonia Area<br style="padding: 0px\; margin: 0px\; box-sizing: border-box\;" />\nGaines<br style="padding: 0px\; margin: 0px\; box-sizing: border-box\;" />\nGrandville /Jenison<br style="padding: 0px\; margin: 0px\; box-sizing: border-box\;" />\nHudsonville Area<br style="padding: 0px\; margin: 0px\; box-sizing: border-box\;" />\nSouth Kent<br style="padding: 0px\; margin: 0px\; box-sizing: border-box\;" />\nWayland Area</span></span></em><br style="padding: 0px\; margin: 0px\; box-sizing: border-box\; color: rgb(0\, 0\, 0)\; font-family: &quot\;Source Sans Pro&quot\;\; font-size: 16px\;" />\n<span style="color: rgb(0\, 0\, 0)\; font-family: &quot\;Source Sans Pro&quot\;\; font-size: 16px\;">Otsego Plainwell</span><br />\n&nbsp\;</div>\n
LOCATION:Grandville Kent District Library
UID:e.2894.732
SEQUENCE:3
DTSTAMP:20260423T170813Z
URL:https://business.caledoniachamber.com/events/details/multi-chamber-speed-networking-8-6-2026-732
END:VEVENT

END:VCALENDAR
