BEGIN:VCALENDAR
VERSION:2.0
PRODID:-//ChamberMaster//Event Calendar 2.0//EN
METHOD:PUBLISH
X-PUBLISHED-TTL:P3D
REFRESH-INTERVAL:P3D
CALSCALE:GREGORIAN
BEGIN:VEVENT
DTSTART:20260611T210000Z
DTEND:20260611T230000Z
X-MICROSOFT-CDO-ALLDAYEVENT:FALSE
SUMMARY:Multi-Chamber Bay Pointe After Hours 6/11/26
DESCRIPTION:Multi-Chamber\n\nMember's Only Networking Event\n\n\n\n\n\nBay Pointe Inn\n\nLake Front Pavilion \n\n\nThursday\, June 11th\n\n5pm-7pm
X-ALT-DESC;FMTTYPE=text/html:<div style="text-align: center\;"><br />\n<span style="color: rgb(128\, 0\, 128)\; font-family: arial\; font-size: 28px\; font-weight: 700\; text-align: center\;">Multi-Chamber</span><br style="color: inherit\; font: inherit\; letter-spacing: inherit\; text-align: inherit\; text-indent: inherit\; text-transform: inherit\; word-spacing: inherit\; white-space: inherit\; background: none\; box-sizing: content-box\; inset: auto\; clear: none\; content: normal\; direction: inherit\; display: inline\; empty-cells: show\; float: none\; margin: 0px\; max-height: none\; max-width: none\; min-height: initial\; min-width: initial\; opacity: 1\; outline-offset: 0px\; overflow: visible\; padding: 0px\; position: static\; resize: none\; table-layout: auto\; text-overflow: clip\; vertical-align: baseline\; visibility: inherit\; word-break: inherit\; overflow-wrap: inherit\; z-index: auto\; border-width: initial\; border-style: none\; border-color: initial\; border-collapse: separate\; border-image: none 100% 1 0 / 1 / 0 stretch\; border-radius: 0px\; height: auto\; width: auto\;" />\n<span style="color: rgb(128\, 0\, 128)\; font-family: arial\; font-size: 28px\; font-weight: 700\; text-align: center\;">Member&#39\;s Only Networking Event</span></div>\n\n<div><br />\n<br />\nBay Pointe Inn<br />\nLake Front Pavilion&nbsp\;</div>\n<br />\nThursday\, June 11th<br />\n5pm-7pm
LOCATION:At the Lakefront Pavilion directly adjacent to the lake. 11456 Marsh Road Shelbyville\, MI 49344
UID:e.2894.741
SEQUENCE:3
DTSTAMP:20260426T003037Z
URL:http://business.caledoniachamber.com/events/details/multi-chamber-bay-pointe-after-hours-6-11-26-741
END:VEVENT

END:VCALENDAR
