BEGIN:VCALENDAR
VERSION:2.0
PRODID:-//ChamberMaster//Event Calendar 2.0//EN
METHOD:PUBLISH
X-PUBLISHED-TTL:P3D
REFRESH-INTERVAL:P3D
CALSCALE:GREGORIAN
BEGIN:VEVENT
DTSTART:20260425T230000Z
DTEND:20260426T040000Z
X-MICROSOFT-CDO-ALLDAYEVENT:FALSE
SUMMARY:80's Party at the Caledonia American Legion
DESCRIPTION:Break out the leg warmers\, tease that hair\, and dust off your denim  it's time to party like it's 1985!   \n\nJoin us for 80's Night at the Caledonia American Legion!\n\n  April 25\, 2026\n\n  7:00 PM   Midnight\n\n  $10 cover at the door\n\nGet ready for a totally rad night featuring live music from Signal Trip\, plus raffles and a 50/50 drawing throughout the evening!\n\nAnd don't forget   we're awarding prizes for Best Dressed\, so go all out with your best 80's look!   \n\nGrab your friends and come out for a night of big hair\, neon vibes\, and nonstop fun. You won't want to miss it!
X-ALT-DESC;FMTTYPE=text/html:<div class="gs" style="margin: 0px\; min-width: 0px\; padding: 0px 0px 20px\; width: auto\; color: rgb(34\, 34\, 34)\; font-family: &quot\;Google Sans&quot\;\, Roboto\, RobotoDraft\, Helvetica\, Arial\, sans-serif\; font-size: medium\;">\n<div>\n<div class="ii gt adO" id=":r6" jslog="20277\; u014N:xr6bB\; 1:WyIjdGhyZWFkLWY6MTg1NzY1NTA4NTI3MjY4MzIyOCJd\; 4:WyIjbXNnLWY6MTg1NzY1NjkwNjEzODU3NzczNSIsbnVsbCxudWxsLG51bGwsNCwyLFsxLDAsMF0sMzYsMTkwLG51bGwsbnVsbCxudWxsLG51bGwsbnVsbCwyLG51bGwsbnVsbCxbMF0sbnVsbCxudWxsLG51bGwsbnVsbCxudWxsLG51bGwsMCwwLG51bGwsbnVsbCxudWxsLG51bGwsWzAsMV1d" style="direction: ltr\; margin: 8px 0px 0px\; padding: 0px\; position: relative\; font-size: 0.875rem\; overflow-x: hidden\;">\n<div class="a3s aiL" id=":r7" style="direction: ltr\; font-variant-numeric: normal\; font-variant-east-asian: normal\; font-variant-alternates: normal\; font-size-adjust: none\; font-language-override: normal\; font-kerning: auto\; font-optical-sizing: auto\; font-feature-settings: normal\; font-variation-settings: normal\; font-variant-position: normal\; font-variant-emoji: normal\; font-stretch: normal\; font-size: small\; line-height: 1.5\; font-family: Arial\, Helvetica\, sans-serif\; overflow: auto hidden\; position: relative\;">\n<div id="avWBGd-470">\n<div dir="auto">\n<p data-end="110" data-start="0">Break out the leg warmers\, tease that hair\, and dust off your denim&hellip\; it&rsquo\;s time to party like it&rsquo\;s 1985! &#127928\;&#127926\;</p>\n\n<p data-end="186" data-start="112">Join us for <strong data-end="138" data-start="124">80&rsquo\;s Night</strong> at the <span class="hover:entity-accent entity-underline inline cursor-pointer align-baseline">Caledonia American Legion</span>!</p>\n\n<p data-end="268" data-start="188">&#128197\; <strong data-end="209" data-start="191">April 25\, 2026</strong><br data-end="212" data-start="209" />\n&#128342\; <strong data-end="237" data-start="215">7:00 PM &ndash\; Midnight</strong><br data-end="240" data-start="237" />\n&#128181\; <strong data-end="268" data-start="243">$10 cover at the door</strong></p>\n\n<p data-end="425" data-start="270">Get ready for a totally rad night featuring live music from <span class="hover:entity-accent entity-underline inline cursor-pointer align-baseline">Signal Trip</span>\, plus raffles and a 50/50 drawing throughout the evening!</p>\n\n<p data-end="534" data-start="427">And don&rsquo\;t forget &mdash\; we&rsquo\;re awarding prizes for <strong data-end="488" data-start="472">Best Dressed</strong>\, so go all out with your best 80&rsquo\;s look! &#128378\;&#128131\;</p>\n\n<p data-end="649" data-start="536">Grab your friends and come out for a night of big hair\, neon vibes\, and nonstop fun. You won&rsquo\;t want to miss it!</p>\n</div>\n\n<div>&nbsp\;</div>\n</div>\n</div>\n</div>\n\n<div class="WhmR8e" data-hash="0" id="avWBGd-471" style="clear: both\;">&nbsp\;</div>\n</div>\n</div>\n
LOCATION:Caledonia American Legion post #305 9548 Cherry Valley SE Caledonia\, MI 49316
UID:e.2894.750
SEQUENCE:3
DTSTAMP:20260425T134008Z
URL:http://business.caledoniachamber.com/events/details/80-s-party-at-the-caledonia-american-legion-750
END:VEVENT

END:VCALENDAR
